BEGIN:VCALENDAR
VERSION:2.0
PRODID:-//Buy Michigan Now - ECPv6.15.20//NONSGML v1.0//EN
CALSCALE:GREGORIAN
METHOD:PUBLISH
X-WR-CALNAME:Buy Michigan Now
X-ORIGINAL-URL:https://dev.buymichigannow.com
X-WR-CALDESC:Events for Buy Michigan Now
REFRESH-INTERVAL;VALUE=DURATION:PT1H
X-Robots-Tag:noindex
X-PUBLISHED-TTL:PT1H
BEGIN:VTIMEZONE
TZID:America/Detroit
BEGIN:DAYLIGHT
TZOFFSETFROM:-0500
TZOFFSETTO:-0400
TZNAME:EDT
DTSTART:20190310T070000
END:DAYLIGHT
BEGIN:STANDARD
TZOFFSETFROM:-0400
TZOFFSETTO:-0500
TZNAME:EST
DTSTART:20191103T060000
END:STANDARD
BEGIN:DAYLIGHT
TZOFFSETFROM:-0500
TZOFFSETTO:-0400
TZNAME:EDT
DTSTART:20200308T070000
END:DAYLIGHT
BEGIN:STANDARD
TZOFFSETFROM:-0400
TZOFFSETTO:-0500
TZNAME:EST
DTSTART:20201101T060000
END:STANDARD
BEGIN:DAYLIGHT
TZOFFSETFROM:-0500
TZOFFSETTO:-0400
TZNAME:EDT
DTSTART:20210314T070000
END:DAYLIGHT
BEGIN:STANDARD
TZOFFSETFROM:-0400
TZOFFSETTO:-0500
TZNAME:EST
DTSTART:20211107T060000
END:STANDARD
END:VTIMEZONE
BEGIN:VEVENT
DTSTART;VALUE=DATE:20200422
DTEND;VALUE=DATE:20200427
DTSTAMP:20260424T192628
CREATED:20190314T053137Z
LAST-MODIFIED:20210710T052424Z
UID:9199-1587513600-1587945599@dev.buymichigannow.com
SUMMARY:Freep Film Fest
DESCRIPTION:Freep Film Festival is a documentary-focused event\, with special attention paid to films connected to Detroit and Michigan — or with special resonance there. It believes great journalism and great documentary storytelling can inform\, inspire and help push the region forward — shining light on its challenges and celebrating its achievements. The fest takes place in more than a dozen different venues around the city of Detroit. Follow the event link for a complete list of scheduled screenings\, times\, and venues.
URL:https://dev.buymichigannow.com/event/freep-film-fest/2020-04-22/
CATEGORIES:Arts,Community
END:VEVENT
END:VCALENDAR